BEGIN:VCALENDAR
VERSION:2.0
PRODID:-//lifespin GmbH - ECPv6.15.20//NONSGML v1.0//EN
CALSCALE:GREGORIAN
METHOD:PUBLISH
X-WR-CALNAME:lifespin GmbH
X-ORIGINAL-URL:https://lifespin.health
X-WR-CALDESC:Events for lifespin GmbH
REFRESH-INTERVAL;VALUE=DURATION:PT1H
X-Robots-Tag:noindex
X-PUBLISHED-TTL:PT1H
BEGIN:VTIMEZONE
TZID:UTC
BEGIN:STANDARD
TZOFFSETFROM:+0000
TZOFFSETTO:+0000
TZNAME:UTC
DTSTART:20220101T000000
END:STANDARD
END:VTIMEZONE
BEGIN:VEVENT
DTSTART;VALUE=DATE:20230523
DTEND;VALUE=DATE:20230525
DTSTAMP:20260420T111013
CREATED:20230307T061449Z
LAST-MODIFIED:20230307T061449Z
UID:7724-1684800000-1684972799@lifespin.health
SUMMARY:PRECISION MED EXHIBITION & SUMMIT INTERNATIONAL
DESCRIPTION:The leading event where knowledge and clinical adoption of precision medicine happens. \nThe second edition brings together a diverse line-up of over 70 international experts\, knowledge leaders\, and medical innovators to provide cutting-edge insights to drive healthcare from a one-size-fits-all model to a personalized\, targeted approach. \nPrecisionMed is running concurrently with the EMERGE 2050 investment forum\, a thriving hub for pioneering health-tech startups to connect with potential investors. \nMeet Dr. Ali Tinazli
URL:https://lifespin.health/event/precision-med-exhibition-summit-international/
CATEGORIES:Meet us
ATTACH;FMTTYPE=image/png:https://lifespin.health/wp-content/uploads/2023/03/precision-med.png
END:VEVENT
END:VCALENDAR