BEGIN:VCALENDAR
VERSION:2.0
PRODID:-//lifespin GmbH - ECPv6.15.20//NONSGML v1.0//EN
CALSCALE:GREGORIAN
METHOD:PUBLISH
X-ORIGINAL-URL:https://lifespin.health
X-WR-CALDESC:Events for lifespin GmbH
REFRESH-INTERVAL;VALUE=DURATION:PT1H
X-Robots-Tag:noindex
X-PUBLISHED-TTL:PT1H
BEGIN:VTIMEZONE
TZID:Asia/Kolkata
BEGIN:STANDARD
TZOFFSETFROM:+0530
TZOFFSETTO:+0530
TZNAME:IST
DTSTART:20250101T000000
END:STANDARD
END:VTIMEZONE
BEGIN:VEVENT
DTSTART;TZID=Asia/Kolkata:20260104T080000
DTEND;TZID=Asia/Kolkata:20260106T170000
DTSTAMP:20260423T130257
CREATED:20251219T072307Z
LAST-MODIFIED:20251219T072728Z
UID:10000124-1767513600-1767718800@lifespin.health
SUMMARY:10th TIE Summit
DESCRIPTION:Meet our CEO Ali Tinazli and attend his talk at the summit.
URL:https://lifespin.health/event/10th-tie-summit/
LOCATION:J.E.C.C. (Jaipur Exhibition & Convention Centre)\, Sitapura Industrial Area\, Sitapura\, Jaipur\, Rajasthan\, 302022\, India
ATTACH;FMTTYPE=image/jpeg:https://lifespin.health/wp-content/uploads/2025/12/TIE-Picture-1.jpg
END:VEVENT
END:VCALENDAR