BEGIN:VCALENDAR
VERSION:2.0
PRODID:-//lifespin GmbH - ECPv6.15.20//NONSGML v1.0//EN
CALSCALE:GREGORIAN
METHOD:PUBLISH
X-WR-CALNAME:lifespin GmbH
X-ORIGINAL-URL:https://lifespin.health
X-WR-CALDESC:Events for lifespin GmbH
REFRESH-INTERVAL;VALUE=DURATION:PT1H
X-Robots-Tag:noindex
X-PUBLISHED-TTL:PT1H
BEGIN:VTIMEZONE
TZID:Europe/Berlin
BEGIN:DAYLIGHT
TZOFFSETFROM:+0100
TZOFFSETTO:+0200
TZNAME:CEST
DTSTART:20250330T010000
END:DAYLIGHT
BEGIN:STANDARD
TZOFFSETFROM:+0200
TZOFFSETTO:+0100
TZNAME:CET
DTSTART:20251026T010000
END:STANDARD
BEGIN:DAYLIGHT
TZOFFSETFROM:+0100
TZOFFSETTO:+0200
TZNAME:CEST
DTSTART:20260329T010000
END:DAYLIGHT
BEGIN:STANDARD
TZOFFSETFROM:+0200
TZOFFSETTO:+0100
TZNAME:CET
DTSTART:20261025T010000
END:STANDARD
BEGIN:DAYLIGHT
TZOFFSETFROM:+0100
TZOFFSETTO:+0200
TZNAME:CEST
DTSTART:20270328T010000
END:DAYLIGHT
BEGIN:STANDARD
TZOFFSETFROM:+0200
TZOFFSETTO:+0100
TZNAME:CET
DTSTART:20271031T010000
END:STANDARD
END:VTIMEZONE
BEGIN:VEVENT
DTSTART;TZID=Europe/Berlin:20260205T083000
DTEND;TZID=Europe/Berlin:20260206T210000
DTSTAMP:20260421T130122
CREATED:20251219T091433Z
LAST-MODIFIED:20251219T091433Z
UID:10000126-1770280200-1770411600@lifespin.health
SUMMARY:DxPx Europe
DESCRIPTION:Meet us at our booth!
URL:https://lifespin.health/event/dxpx-europe/
LOCATION:Hotel Andaz\, Leopoldstraße 170\, München\, 80804\, Germany
ATTACH;FMTTYPE=image/png:https://lifespin.health/wp-content/uploads/2025/12/DxPx.png
END:VEVENT
END:VCALENDAR