BEGIN:VCALENDAR
VERSION:2.0
PRODID:-//lifespin GmbH - ECPv6.15.20//NONSGML v1.0//EN
CALSCALE:GREGORIAN
METHOD:PUBLISH
X-ORIGINAL-URL:https://lifespin.health
X-WR-CALDESC:Events for lifespin GmbH
REFRESH-INTERVAL;VALUE=DURATION:PT1H
X-Robots-Tag:noindex
X-PUBLISHED-TTL:PT1H
BEGIN:VTIMEZONE
TZID:Europe/Berlin
BEGIN:DAYLIGHT
TZOFFSETFROM:+0100
TZOFFSETTO:+0200
TZNAME:CEST
DTSTART:20250330T010000
END:DAYLIGHT
BEGIN:STANDARD
TZOFFSETFROM:+0200
TZOFFSETTO:+0100
TZNAME:CET
DTSTART:20251026T010000
END:STANDARD
BEGIN:DAYLIGHT
TZOFFSETFROM:+0100
TZOFFSETTO:+0200
TZNAME:CEST
DTSTART:20260329T010000
END:DAYLIGHT
BEGIN:STANDARD
TZOFFSETFROM:+0200
TZOFFSETTO:+0100
TZNAME:CET
DTSTART:20261025T010000
END:STANDARD
BEGIN:DAYLIGHT
TZOFFSETFROM:+0100
TZOFFSETTO:+0200
TZNAME:CEST
DTSTART:20270328T010000
END:DAYLIGHT
BEGIN:STANDARD
TZOFFSETFROM:+0200
TZOFFSETTO:+0100
TZNAME:CET
DTSTART:20271031T010000
END:STANDARD
END:VTIMEZONE
BEGIN:VEVENT
DTSTART;VALUE=DATE:20260209
DTEND;VALUE=DATE:20260213
DTSTAMP:20260421T064808
CREATED:20250715T132326Z
LAST-MODIFIED:20250715T132400Z
UID:10000123-1770595200-1770940799@lifespin.health
SUMMARY:Step into the Future of Global Healthcare at WHX Dubai 2026
DESCRIPTION:From February 9–12\, 2026\, the world’s healthcare leaders gather at the Dubai Exhibition Centre for the Middle East’s largest medical trade fair. Discover cutting-edge innovations in MedTech\, digital health\, and AI while networking with over 130\,000 professionals from more than 180 countries. Whether you’re looking to explore breakthrough technologies or forge global partnerships — WHX Dubai is where healthcare transformation begins.
URL:https://lifespin.health/event/step-into-the-future-of-global-healthcare-at-whx-dubai-2026/
LOCATION:Dubai Exhibition Centre\, Sheikh Zayed Rd\, Dubai\, Dubai\, 110048\, United Arab Emirates
CATEGORIES:Meet us
ATTACH;FMTTYPE=image/jpeg:https://lifespin.health/wp-content/uploads/2025/07/World-health-Exhibition-Arab-health-2026_page-0001-scaled.jpg
END:VEVENT
END:VCALENDAR